BEGIN:VCALENDAR
METHOD:REQUEST
PRODID:Microsoft Exchange Server 2010
VERSION:2.0
BEGIN:VTIMEZONE
TZID:W. Europe Standard Time
BEGIN:STANDARD
DTSTART:16010101T030000
TZOFFSETFROM:+0200
TZOFFSETTO:+0100
RRULE:FREQ=YEARLY;INTERVAL=1;BYDAY=-1SU;BYMONTH=10
END:STANDARD
BEGIN:DAYLIGHT
DTSTART:16010101T020000
TZOFFSETFROM:+0100
TZOFFSETTO:+0200
RRULE:FREQ=YEARLY;INTERVAL=1;BYDAY=-1SU;BYMONTH=3
END:DAYLIGHT
END:VTIMEZONE
BEGIN:VEVENT
ORGANIZER;CN=Catrine Andersson:mailto:catrine.andersson@mau.se
ATTENDEE;ROLE=REQ-PARTICIPANT;PARTSTAT=NEEDS-ACTION;RSVP=TRUE;CN=hbtqhl@lis
 ts.sunet.se:mailto:hbtqhl@lists.sunet.se
DESCRIPTION;LANGUAGE=sv-SE:Catrine Andersson bjuder in dig till ett schemal
 agt möte på Zoom.\nGå med i möte på Zoom\nhttps://mau-se.zoom.us/j/62
 153881846?pwd=CVVXaE997aVFgyY1YVysxKLXtowb5W.1\n\nMötes-ID: 621 5388 1846
 \nLösenkod: 516158\n\n---\n\nMobil med ett tryck\n+46850500828\,\,6215388
 1846# Sverige\n+46850500829\,\,62153881846# Sverige\n\n---\n\nDelta via SI
 P\n62153881846@109.105.112.236<mailto:62153881846@109.105.112.236>\n• 62
 153881846@109.105.112.235<mailto:62153881846@109.105.112.235>\n\nInstrukti
 oner för att gå med\nhttps://mau-se.zoom.us/meetings/62153881846/invitat
 ions?signature=u1peL_9TfnGl5fzVOfcaDCObtGqkedsvLxK7kw2GqdM\n
UID:040000008200E00074C5B7101A82E00800000000A0B9CF70D318DC01000000000000000
 01000000016B4E05747F33D45AC0F90C4F098FAB5
SUMMARY;LANGUAGE=sv-SE:LGBTQ+ Joint Writing Time
DTSTART;TZID=W. Europe Standard Time:20251010T131500
DTEND;TZID=W. Europe Standard Time:20251010T150000
CLASS:PUBLIC
PRIORITY:5
DTSTAMP:20250829T085546Z
TRANSP:OPAQUE
STATUS:CONFIRMED
SEQUENCE:0
LOCATION;LANGUAGE=sv-SE:https://mau-se.zoom.us/j/62153881846?pwd=CVVXaE997a
 VFgyY1YVysxKLXtowb5W.1
X-MICROSOFT-CDO-APPT-SEQUENCE:0
X-MICROSOFT-CDO-OWNERAPPTID:503154665
X-MICROSOFT-CDO-BUSYSTATUS:TENTATIVE
X-MICROSOFT-CDO-INTENDEDSTATUS:BUSY
X-MICROSOFT-CDO-ALLDAYEVENT:FALSE
X-MICROSOFT-CDO-IMPORTANCE:1
X-MICROSOFT-CDO-INSTTYPE:0
X-MICROSOFT-DONOTFORWARDMEETING:FALSE
X-MICROSOFT-DISALLOW-COUNTER:FALSE
X-MICROSOFT-REQUESTEDATTENDANCEMODE:DEFAULT
X-MICROSOFT-ISRESPONSEREQUESTED:TRUE
X-MICROSOFT-LOCATIONS:[ { "DisplayName" : "https://mau-se.zoom.us/j/6215388
 1846?pwd=CVVXaE997aVFgyY1YVysxKLXtowb5W.1"\, "LocationAnnotation" : ""\, "
 LocationSource" : 0\, "Unresolved" : false\, "LocationUri" : "" } ]
BEGIN:VALARM
DESCRIPTION:REMINDER
TRIGGER;RELATED=START:-PT15M
ACTION:DISPLAY
END:VALARM
END:VEVENT
END:VCALENDAR
